BEGIN:VCALENDAR
VERSION:2.0
PRODID:-//Den Jyske Sangskole - ECPv6.15.20//NONSGML v1.0//EN
CALSCALE:GREGORIAN
METHOD:PUBLISH
X-WR-CALNAME:Den Jyske Sangskole
X-ORIGINAL-URL:https://denjyskesangskole.dk
X-WR-CALDESC:Begivenheder for Den Jyske Sangskole
REFRESH-INTERVAL;VALUE=DURATION:PT1H
X-Robots-Tag:noindex
X-PUBLISHED-TTL:PT1H
BEGIN:VTIMEZONE
TZID:Europe/Copenhagen
BEGIN:DAYLIGHT
TZOFFSETFROM:+0100
TZOFFSETTO:+0200
TZNAME:CEST
DTSTART:20250330T010000
END:DAYLIGHT
BEGIN:STANDARD
TZOFFSETFROM:+0200
TZOFFSETTO:+0100
TZNAME:CET
DTSTART:20251026T010000
END:STANDARD
BEGIN:DAYLIGHT
TZOFFSETFROM:+0100
TZOFFSETTO:+0200
TZNAME:CEST
DTSTART:20260329T010000
END:DAYLIGHT
BEGIN:STANDARD
TZOFFSETFROM:+0200
TZOFFSETTO:+0100
TZNAME:CET
DTSTART:20261025T010000
END:STANDARD
BEGIN:DAYLIGHT
TZOFFSETFROM:+0100
TZOFFSETTO:+0200
TZNAME:CEST
DTSTART:20270328T010000
END:DAYLIGHT
BEGIN:STANDARD
TZOFFSETFROM:+0200
TZOFFSETTO:+0100
TZNAME:CET
DTSTART:20271031T010000
END:STANDARD
END:VTIMEZONE
BEGIN:VEVENT
DTSTART;TZID=Europe/Copenhagen:20260312T100000
DTEND;TZID=Europe/Copenhagen:20260312T104500
DTSTAMP:20260419T231756
CREATED:20260105T111121Z
LAST-MODIFIED:20260105T111121Z
UID:10000270-1773309600-1773312300@denjyskesangskole.dk
SUMMARY:Sang\, sprog og samvær
DESCRIPTION:
URL:https://denjyskesangskole.dk/event/sang-sprog-og-samvaer-3/
LOCATION:Biblioteket i Sunds
ATTACH;FMTTYPE=image/png:https://denjyskesangskole.dk/wp-content/uploads/2026/01/SSS_fb.png
END:VEVENT
END:VCALENDAR