BEGIN:VCALENDAR
VERSION:2.0
PRODID:-//Den Jyske Sangskole - ECPv6.15.20//NONSGML v1.0//EN
CALSCALE:GREGORIAN
METHOD:PUBLISH
X-ORIGINAL-URL:https://denjyskesangskole.dk
X-WR-CALDESC:Begivenheder for Den Jyske Sangskole
REFRESH-INTERVAL;VALUE=DURATION:PT1H
X-Robots-Tag:noindex
X-PUBLISHED-TTL:PT1H
BEGIN:VTIMEZONE
TZID:Europe/Copenhagen
BEGIN:DAYLIGHT
TZOFFSETFROM:+0100
TZOFFSETTO:+0200
TZNAME:CEST
DTSTART:20250330T010000
END:DAYLIGHT
BEGIN:STANDARD
TZOFFSETFROM:+0200
TZOFFSETTO:+0100
TZNAME:CET
DTSTART:20251026T010000
END:STANDARD
BEGIN:DAYLIGHT
TZOFFSETFROM:+0100
TZOFFSETTO:+0200
TZNAME:CEST
DTSTART:20260329T010000
END:DAYLIGHT
BEGIN:STANDARD
TZOFFSETFROM:+0200
TZOFFSETTO:+0100
TZNAME:CET
DTSTART:20261025T010000
END:STANDARD
BEGIN:DAYLIGHT
TZOFFSETFROM:+0100
TZOFFSETTO:+0200
TZNAME:CEST
DTSTART:20270328T010000
END:DAYLIGHT
BEGIN:STANDARD
TZOFFSETFROM:+0200
TZOFFSETTO:+0100
TZNAME:CET
DTSTART:20271031T010000
END:STANDARD
END:VTIMEZONE
BEGIN:VEVENT
DTSTART;TZID=Europe/Copenhagen:20260807T190000
DTEND;TZID=Europe/Copenhagen:20260807T210000
DTSTAMP:20260419T163844
CREATED:20260128T093657Z
LAST-MODIFIED:20260128T093657Z
UID:10000280-1786129200-1786136400@denjyskesangskole.dk
SUMMARY:Nordic Song Festival
DESCRIPTION:
URL:https://denjyskesangskole.dk/event/nordic-song-festival/
LOCATION:Sverige
END:VEVENT
BEGIN:VEVENT
DTSTART;TZID=Europe/Copenhagen:20260830T170000
DTEND;TZID=Europe/Copenhagen:20260830T170000
DTSTAMP:20260419T163844
CREATED:20260128T084738Z
LAST-MODIFIED:20260128T084738Z
UID:10000278-1788109200-1788109200@denjyskesangskole.dk
SUMMARY:Herning Opera Festival
DESCRIPTION:
URL:https://denjyskesangskole.dk/event/herning-opera-festival/
LOCATION:Herning\, Denmark
END:VEVENT
END:VCALENDAR